BEGIN:VCALENDAR
VERSION:2.0
PRODID:-//Park James - ECPv6.15.18//NONSGML v1.0//EN
CALSCALE:GREGORIAN
METHOD:PUBLISH
X-ORIGINAL-URL:https://parkjames.com
X-WR-CALDESC:Events for Park James
REFRESH-INTERVAL;VALUE=DURATION:PT1H
X-Robots-Tag:noindex
X-PUBLISHED-TTL:PT1H
BEGIN:VTIMEZONE
TZID:UTC
BEGIN:STANDARD
TZOFFSETFROM:+0000
TZOFFSETTO:+0000
TZNAME:UTC
DTSTART:20250101T000000
END:STANDARD
END:VTIMEZONE
BEGIN:VEVENT
DTSTART;TZID=UTC:20260203T180000
DTEND;TZID=UTC:20260203T203000
DTSTAMP:20260419T192422
CREATED:20260107T161450Z
LAST-MODIFIED:20260107T161450Z
UID:3595-1770141600-1770150600@parkjames.com
SUMMARY:Live Performance with Carlos Reyes
DESCRIPTION:World-renowned harpist and violinist\, Carlos Reyes\, performs during dinner each Tuesday on the courtyard at Oak + Violet! This Grammy Award-winning artist has played around the globe with legendary performers like Willie Nelson\, Steve Miller\, MC Hammer\, and the Doobie Brothers. Carlos has been wowing audiences since his first public appearance at the age of 5! Originally from Paraguay\, Carlos moved with his family to the Bay Area as a young child and debuted with the Oakland Symphony Orchestra when he was only 14 years old. Don’t miss this special opportunity to see Carlos perform at such an intimate venue\, and prepare to be blown away by his sheer genius!
URL:https://parkjames.com/event-calendar/live-performance-with-carlos-reyes-12/
CATEGORIES:Live Music
ATTACH;FMTTYPE=image/jpeg:https://parkjames.com/wp-content/uploads/2025/02/CarlosViolin-2-e1739259329184.jpg
END:VEVENT
BEGIN:VEVENT
DTSTART;TZID=UTC:20260204T170000
DTEND;TZID=UTC:20260204T200000
DTSTAMP:20260419T192422
CREATED:20260123T064132Z
LAST-MODIFIED:20260123T064132Z
UID:3793-1770224400-1770235200@parkjames.com
SUMMARY:CZ 15:The Long Game Ft. Phil Hellmuth
DESCRIPTION:Join us for an evening with a legend \nWe’re hosting Phil Hellmuth on February 4th for a deep dive into the mindset behind 30 years of poker dominance. It’s going to be an incredible night of stories\, strategy\, and elite discipline. \nWe’d love to see you there! \nView Details
URL:https://parkjames.com/event-calendar/cz-15the-long-game-ft-phil-hellmuth/
ATTACH;FMTTYPE=image/avif:https://parkjames.com/wp-content/uploads/2026/01/991dd2d8-ea25-4643-bf34-ed7d3a54d9a4.avif
END:VEVENT
BEGIN:VEVENT
DTSTART;TZID=UTC:20260204T180000
DTEND;TZID=UTC:20260204T203000
DTSTAMP:20260419T192422
CREATED:20260107T161541Z
LAST-MODIFIED:20260107T161541Z
UID:3596-1770228000-1770237000@parkjames.com
SUMMARY:Live Performance with Carlos Reyes
DESCRIPTION:World-renowned harpist and violinist\, Carlos Reyes\, performs during dinner each Tuesday on the courtyard at Oak + Violet! This Grammy Award-winning artist has played around the globe with legendary performers like Willie Nelson\, Steve Miller\, MC Hammer\, and the Doobie Brothers. Carlos has been wowing audiences since his first public appearance at the age of 5! Originally from Paraguay\, Carlos moved with his family to the Bay Area as a young child and debuted with the Oakland Symphony Orchestra when he was only 14 years old. Don’t miss this special opportunity to see Carlos perform at such an intimate venue\, and prepare to be blown away by his sheer genius!
URL:https://parkjames.com/event-calendar/live-performance-with-carlos-reyes-13/
CATEGORIES:Live Music
ATTACH;FMTTYPE=image/jpeg:https://parkjames.com/wp-content/uploads/2025/02/CarlosViolin-2-e1739259329184.jpg
END:VEVENT
BEGIN:VEVENT
DTSTART;TZID=UTC:20260206T180000
DTEND;TZID=UTC:20260206T203000
DTSTAMP:20260419T192422
CREATED:20260107T161054Z
LAST-MODIFIED:20260107T161054Z
UID:3591-1770400800-1770409800@parkjames.com
SUMMARY:Join Rick & Nate for a Night of Curated Music at a Refined Atmosphere
DESCRIPTION:Rick & Nate are a dynamic music duo known for delivering polished\, engaging performances that blend timeless classics with contemporary favorites. With a sound rooted in acoustic-driven arrangements\, rich harmonies\, and effortless musicianship\, they create an inviting atmosphere that complements upscale dining\, social gatherings\, and community events.
URL:https://parkjames.com/event-calendar/join-rick-nate-for-a-night-of-curated-music-at-a-refined-atmosphere-5/
CATEGORIES:Live Music
ATTACH;FMTTYPE=image/jpeg:https://parkjames.com/wp-content/uploads/2025/01/IMG_Rick.sun_.Nate_-e1739259124854.jpg
END:VEVENT
BEGIN:VEVENT
DTSTART;TZID=UTC:20260206T180000
DTEND;TZID=UTC:20260206T203000
DTSTAMP:20260419T192422
CREATED:20260107T161634Z
LAST-MODIFIED:20260107T161634Z
UID:3597-1770400800-1770409800@parkjames.com
SUMMARY:Live Performance with Carlos Reyes
DESCRIPTION:World-renowned harpist and violinist\, Carlos Reyes\, performs during dinner each Tuesday on the courtyard at Oak + Violet! This Grammy Award-winning artist has played around the globe with legendary performers like Willie Nelson\, Steve Miller\, MC Hammer\, and the Doobie Brothers. Carlos has been wowing audiences since his first public appearance at the age of 5! Originally from Paraguay\, Carlos moved with his family to the Bay Area as a young child and debuted with the Oakland Symphony Orchestra when he was only 14 years old. Don’t miss this special opportunity to see Carlos perform at such an intimate venue\, and prepare to be blown away by his sheer genius!
URL:https://parkjames.com/event-calendar/live-performance-with-carlos-reyes-14/
CATEGORIES:Live Music
ATTACH;FMTTYPE=image/jpeg:https://parkjames.com/wp-content/uploads/2025/02/CarlosViolin-2-e1739259329184.jpg
END:VEVENT
BEGIN:VEVENT
DTSTART;TZID=UTC:20260210T180000
DTEND;TZID=UTC:20260210T203000
DTSTAMP:20260419T192422
CREATED:20260107T161739Z
LAST-MODIFIED:20260107T161739Z
UID:3598-1770746400-1770755400@parkjames.com
SUMMARY:Live Performance with Carlos Reyes
DESCRIPTION:World-renowned harpist and violinist\, Carlos Reyes\, performs during dinner each Tuesday on the courtyard at Oak + Violet! This Grammy Award-winning artist has played around the globe with legendary performers like Willie Nelson\, Steve Miller\, MC Hammer\, and the Doobie Brothers. Carlos has been wowing audiences since his first public appearance at the age of 5! Originally from Paraguay\, Carlos moved with his family to the Bay Area as a young child and debuted with the Oakland Symphony Orchestra when he was only 14 years old. Don’t miss this special opportunity to see Carlos perform at such an intimate venue\, and prepare to be blown away by his sheer genius!
URL:https://parkjames.com/event-calendar/live-performance-with-carlos-reyes-15/
CATEGORIES:Live Music
ATTACH;FMTTYPE=image/jpeg:https://parkjames.com/wp-content/uploads/2025/02/CarlosViolin-2-e1739259329184.jpg
END:VEVENT
BEGIN:VEVENT
DTSTART;TZID=UTC:20260211T180000
DTEND;TZID=UTC:20260211T203000
DTSTAMP:20260419T192422
CREATED:20260107T161831Z
LAST-MODIFIED:20260107T161831Z
UID:3599-1770832800-1770841800@parkjames.com
SUMMARY:Live Performance with Carlos Reyes
DESCRIPTION:World-renowned harpist and violinist\, Carlos Reyes\, performs during dinner each Tuesday on the courtyard at Oak + Violet! This Grammy Award-winning artist has played around the globe with legendary performers like Willie Nelson\, Steve Miller\, MC Hammer\, and the Doobie Brothers. Carlos has been wowing audiences since his first public appearance at the age of 5! Originally from Paraguay\, Carlos moved with his family to the Bay Area as a young child and debuted with the Oakland Symphony Orchestra when he was only 14 years old. Don’t miss this special opportunity to see Carlos perform at such an intimate venue\, and prepare to be blown away by his sheer genius!
URL:https://parkjames.com/event-calendar/live-performance-with-carlos-reyes-16/
CATEGORIES:Live Music
ATTACH;FMTTYPE=image/jpeg:https://parkjames.com/wp-content/uploads/2025/02/CarlosViolin-2-e1739259329184.jpg
END:VEVENT
BEGIN:VEVENT
DTSTART;TZID=UTC:20260213T180000
DTEND;TZID=UTC:20260213T203000
DTSTAMP:20260419T192422
CREATED:20260107T161142Z
LAST-MODIFIED:20260107T161142Z
UID:3592-1771005600-1771014600@parkjames.com
SUMMARY:Join Rick & Nate for a Night of Curated Music at a Refined Atmosphere
DESCRIPTION:Rick & Nate are a dynamic music duo known for delivering polished\, engaging performances that blend timeless classics with contemporary favorites. With a sound rooted in acoustic-driven arrangements\, rich harmonies\, and effortless musicianship\, they create an inviting atmosphere that complements upscale dining\, social gatherings\, and community events.
URL:https://parkjames.com/event-calendar/join-rick-nate-for-a-night-of-curated-music-at-a-refined-atmosphere-6/
CATEGORIES:Live Music
ATTACH;FMTTYPE=image/jpeg:https://parkjames.com/wp-content/uploads/2025/01/IMG_Rick.sun_.Nate_-e1739259124854.jpg
END:VEVENT
BEGIN:VEVENT
DTSTART;TZID=UTC:20260213T180000
DTEND;TZID=UTC:20260213T203000
DTSTAMP:20260419T192422
CREATED:20260107T161926Z
LAST-MODIFIED:20260107T161926Z
UID:3600-1771005600-1771014600@parkjames.com
SUMMARY:Live Performance with Carlos Reyes
DESCRIPTION:World-renowned harpist and violinist\, Carlos Reyes\, performs during dinner each Tuesday on the courtyard at Oak + Violet! This Grammy Award-winning artist has played around the globe with legendary performers like Willie Nelson\, Steve Miller\, MC Hammer\, and the Doobie Brothers. Carlos has been wowing audiences since his first public appearance at the age of 5! Originally from Paraguay\, Carlos moved with his family to the Bay Area as a young child and debuted with the Oakland Symphony Orchestra when he was only 14 years old. Don’t miss this special opportunity to see Carlos perform at such an intimate venue\, and prepare to be blown away by his sheer genius!
URL:https://parkjames.com/event-calendar/live-performance-with-carlos-reyes-17/
CATEGORIES:Live Music
ATTACH;FMTTYPE=image/jpeg:https://parkjames.com/wp-content/uploads/2025/02/CarlosViolin-2-e1739259329184.jpg
END:VEVENT
BEGIN:VEVENT
DTSTART;TZID=UTC:20260217T180000
DTEND;TZID=UTC:20260217T203000
DTSTAMP:20260419T192422
CREATED:20260107T162028Z
LAST-MODIFIED:20260107T162028Z
UID:3603-1771351200-1771360200@parkjames.com
SUMMARY:Live Performance with Carlos Reyes
DESCRIPTION:World-renowned harpist and violinist\, Carlos Reyes\, performs during dinner each Tuesday on the courtyard at Oak + Violet! This Grammy Award-winning artist has played around the globe with legendary performers like Willie Nelson\, Steve Miller\, MC Hammer\, and the Doobie Brothers. Carlos has been wowing audiences since his first public appearance at the age of 5! Originally from Paraguay\, Carlos moved with his family to the Bay Area as a young child and debuted with the Oakland Symphony Orchestra when he was only 14 years old. Don’t miss this special opportunity to see Carlos perform at such an intimate venue\, and prepare to be blown away by his sheer genius!
URL:https://parkjames.com/event-calendar/live-performance-with-carlos-reyes-18/
CATEGORIES:Live Music
ATTACH;FMTTYPE=image/jpeg:https://parkjames.com/wp-content/uploads/2025/02/CarlosViolin-2-e1739259329184.jpg
END:VEVENT
BEGIN:VEVENT
DTSTART;TZID=UTC:20260218T180000
DTEND;TZID=UTC:20260218T203000
DTSTAMP:20260419T192422
CREATED:20260107T162120Z
LAST-MODIFIED:20260107T162120Z
UID:3604-1771437600-1771446600@parkjames.com
SUMMARY:Live Performance with Carlos Reyes
DESCRIPTION:World-renowned harpist and violinist\, Carlos Reyes\, performs during dinner each Tuesday on the courtyard at Oak + Violet! This Grammy Award-winning artist has played around the globe with legendary performers like Willie Nelson\, Steve Miller\, MC Hammer\, and the Doobie Brothers. Carlos has been wowing audiences since his first public appearance at the age of 5! Originally from Paraguay\, Carlos moved with his family to the Bay Area as a young child and debuted with the Oakland Symphony Orchestra when he was only 14 years old. Don’t miss this special opportunity to see Carlos perform at such an intimate venue\, and prepare to be blown away by his sheer genius!
URL:https://parkjames.com/event-calendar/live-performance-with-carlos-reyes-19/
CATEGORIES:Live Music
ATTACH;FMTTYPE=image/jpeg:https://parkjames.com/wp-content/uploads/2025/02/CarlosViolin-2-e1739259329184.jpg
END:VEVENT
BEGIN:VEVENT
DTSTART;TZID=UTC:20260220T180000
DTEND;TZID=UTC:20260220T203000
DTSTAMP:20260419T192422
CREATED:20260107T161237Z
LAST-MODIFIED:20260107T161237Z
UID:3593-1771610400-1771619400@parkjames.com
SUMMARY:Join Rick & Nate for a Night of Curated Music at a Refined Atmosphere
DESCRIPTION:Rick & Nate are a dynamic music duo known for delivering polished\, engaging performances that blend timeless classics with contemporary favorites. With a sound rooted in acoustic-driven arrangements\, rich harmonies\, and effortless musicianship\, they create an inviting atmosphere that complements upscale dining\, social gatherings\, and community events.
URL:https://parkjames.com/event-calendar/join-rick-nate-for-a-night-of-curated-music-at-a-refined-atmosphere-7/
CATEGORIES:Live Music
ATTACH;FMTTYPE=image/jpeg:https://parkjames.com/wp-content/uploads/2025/01/IMG_Rick.sun_.Nate_-e1739259124854.jpg
END:VEVENT
BEGIN:VEVENT
DTSTART;TZID=UTC:20260220T180000
DTEND;TZID=UTC:20260220T203000
DTSTAMP:20260419T192422
CREATED:20260107T162219Z
LAST-MODIFIED:20260107T162219Z
UID:3605-1771610400-1771619400@parkjames.com
SUMMARY:Live Performance with Carlos Reyes
DESCRIPTION:World-renowned harpist and violinist\, Carlos Reyes\, performs during dinner each Tuesday on the courtyard at Oak + Violet! This Grammy Award-winning artist has played around the globe with legendary performers like Willie Nelson\, Steve Miller\, MC Hammer\, and the Doobie Brothers. Carlos has been wowing audiences since his first public appearance at the age of 5! Originally from Paraguay\, Carlos moved with his family to the Bay Area as a young child and debuted with the Oakland Symphony Orchestra when he was only 14 years old. Don’t miss this special opportunity to see Carlos perform at such an intimate venue\, and prepare to be blown away by his sheer genius!
URL:https://parkjames.com/event-calendar/live-performance-with-carlos-reyes-20/
CATEGORIES:Live Music
ATTACH;FMTTYPE=image/jpeg:https://parkjames.com/wp-content/uploads/2025/02/CarlosViolin-2-e1739259329184.jpg
END:VEVENT
BEGIN:VEVENT
DTSTART;TZID=UTC:20260224T180000
DTEND;TZID=UTC:20260224T203000
DTSTAMP:20260419T192422
CREATED:20260107T162313Z
LAST-MODIFIED:20260107T162313Z
UID:3606-1771956000-1771965000@parkjames.com
SUMMARY:Live Performance with Carlos Reyes
DESCRIPTION:World-renowned harpist and violinist\, Carlos Reyes\, performs during dinner each Tuesday on the courtyard at Oak + Violet! This Grammy Award-winning artist has played around the globe with legendary performers like Willie Nelson\, Steve Miller\, MC Hammer\, and the Doobie Brothers. Carlos has been wowing audiences since his first public appearance at the age of 5! Originally from Paraguay\, Carlos moved with his family to the Bay Area as a young child and debuted with the Oakland Symphony Orchestra when he was only 14 years old. Don’t miss this special opportunity to see Carlos perform at such an intimate venue\, and prepare to be blown away by his sheer genius!
URL:https://parkjames.com/event-calendar/live-performance-with-carlos-reyes-21/
CATEGORIES:Live Music
ATTACH;FMTTYPE=image/jpeg:https://parkjames.com/wp-content/uploads/2025/02/CarlosViolin-2-e1739259329184.jpg
END:VEVENT
BEGIN:VEVENT
DTSTART;TZID=UTC:20260225T180000
DTEND;TZID=UTC:20260225T203000
DTSTAMP:20260419T192422
CREATED:20260107T162403Z
LAST-MODIFIED:20260107T162403Z
UID:3607-1772042400-1772051400@parkjames.com
SUMMARY:Live Performance with Carlos Reyes
DESCRIPTION:World-renowned harpist and violinist\, Carlos Reyes\, performs during dinner each Tuesday on the courtyard at Oak + Violet! This Grammy Award-winning artist has played around the globe with legendary performers like Willie Nelson\, Steve Miller\, MC Hammer\, and the Doobie Brothers. Carlos has been wowing audiences since his first public appearance at the age of 5! Originally from Paraguay\, Carlos moved with his family to the Bay Area as a young child and debuted with the Oakland Symphony Orchestra when he was only 14 years old. Don’t miss this special opportunity to see Carlos perform at such an intimate venue\, and prepare to be blown away by his sheer genius!
URL:https://parkjames.com/event-calendar/live-performance-with-carlos-reyes-22/
CATEGORIES:Live Music
ATTACH;FMTTYPE=image/jpeg:https://parkjames.com/wp-content/uploads/2025/02/CarlosViolin-2-e1739259329184.jpg
END:VEVENT
BEGIN:VEVENT
DTSTART;TZID=UTC:20260227T180000
DTEND;TZID=UTC:20260227T203000
DTSTAMP:20260419T192422
CREATED:20260107T161329Z
LAST-MODIFIED:20260107T161329Z
UID:3594-1772215200-1772224200@parkjames.com
SUMMARY:Join Rick & Nate for a Night of Curated Music at a Refined Atmosphere
DESCRIPTION:Rick & Nate are a dynamic music duo known for delivering polished\, engaging performances that blend timeless classics with contemporary favorites. With a sound rooted in acoustic-driven arrangements\, rich harmonies\, and effortless musicianship\, they create an inviting atmosphere that complements upscale dining\, social gatherings\, and community events.
URL:https://parkjames.com/event-calendar/join-rick-nate-for-a-night-of-curated-music-at-a-refined-atmosphere-8/
CATEGORIES:Live Music
ATTACH;FMTTYPE=image/jpeg:https://parkjames.com/wp-content/uploads/2025/01/IMG_Rick.sun_.Nate_-e1739259124854.jpg
END:VEVENT
BEGIN:VEVENT
DTSTART;TZID=UTC:20260227T180000
DTEND;TZID=UTC:20260227T203000
DTSTAMP:20260419T192422
CREATED:20260107T162518Z
LAST-MODIFIED:20260107T162518Z
UID:3608-1772215200-1772224200@parkjames.com
SUMMARY:Live Performance with Carlos Reyes
DESCRIPTION:World-renowned harpist and violinist\, Carlos Reyes\, performs during dinner each Tuesday on the courtyard at Oak + Violet! This Grammy Award-winning artist has played around the globe with legendary performers like Willie Nelson\, Steve Miller\, MC Hammer\, and the Doobie Brothers. Carlos has been wowing audiences since his first public appearance at the age of 5! Originally from Paraguay\, Carlos moved with his family to the Bay Area as a young child and debuted with the Oakland Symphony Orchestra when he was only 14 years old. Don’t miss this special opportunity to see Carlos perform at such an intimate venue\, and prepare to be blown away by his sheer genius!
URL:https://parkjames.com/event-calendar/live-performance-with-carlos-reyes-23/
CATEGORIES:Live Music
ATTACH;FMTTYPE=image/jpeg:https://parkjames.com/wp-content/uploads/2025/02/CarlosViolin-2-e1739259329184.jpg
END:VEVENT
END:VCALENDAR