BEGIN:VCALENDAR
VERSION:2.0
PRODID:-//Park James - ECPv6.15.18//NONSGML v1.0//EN
CALSCALE:GREGORIAN
METHOD:PUBLISH
X-WR-CALNAME:Park James
X-ORIGINAL-URL:https://parkjames.com
X-WR-CALDESC:Events for Park James
REFRESH-INTERVAL;VALUE=DURATION:PT1H
X-Robots-Tag:noindex
X-PUBLISHED-TTL:PT1H
BEGIN:VTIMEZONE
TZID:UTC
BEGIN:STANDARD
TZOFFSETFROM:+0000
TZOFFSETTO:+0000
TZNAME:UTC
DTSTART:20240101T000000
END:STANDARD
END:VTIMEZONE
BEGIN:VEVENT
DTSTART;TZID=UTC:20250620T180000
DTEND;TZID=UTC:20250620T203000
DTSTAMP:20260421T023612
CREATED:20250211T074831Z
LAST-MODIFIED:20250605T081310Z
UID:3076-1750442400-1750451400@parkjames.com
SUMMARY:Live Music Fridays with Nate Pruitt and Rick Vandivier
DESCRIPTION:Vocalist Nate Pruitt and guitarist Rick Vandivier magically combine southern soul and classic jazz styles with grooves and blues – performing their originals and favorites from Jimmie Davis and Nat King Cole to Al Green and Marvin Gaye. Their treatments are so unique that you feel you are hearing even classic songs for the first time. While they impress hard-core jazz lovers\, they also tap into the souls of anyone who loves the great vibes and surprises that come with every session. \nReservations are recommended.
URL:https://parkjames.com/event-calendar/live-music-fridays-with-nate-pruitt-and-rick-vandivier-3/
ATTACH;FMTTYPE=image/jpeg:https://parkjames.com/wp-content/uploads/2025/01/IMG_Rick.sun_.Nate_-e1739259124854.jpg
END:VEVENT
BEGIN:VEVENT
DTSTART;TZID=UTC:20250618T180000
DTEND;TZID=UTC:20250618T203000
DTSTAMP:20260421T023612
CREATED:20250605T123118Z
LAST-MODIFIED:20250605T163338Z
UID:3309-1750269600-1750278600@parkjames.com
SUMMARY:Live Music with Carlos Reyes
DESCRIPTION:World-renowned harpist and violinist\, Carlos Reyes\, is performing during dinner Tuesday evenings on the courtyard at Oak + Violet! This Grammy Award-winning artist has played around the globe with legendary performers like Willie Nelson\, Steve Miller\, MC Hammer and the Doobie Brothers. \nCarlos has been wowing audiences since his first public appearance at the age of 5! Originally from Paraguay\, Carlos moved with his family to the Bay Area as a young child and debuted with the Oakland Symphony Orchestra when he was only 14 years old. \nDon’t miss the opportunity to see Carlos perform at such an intimate venue\, and prepare to be blown away by his sheer genius!
URL:https://parkjames.com/event-calendar/live-music-with-carlos-reyes-17/
CATEGORIES:Live Music
ATTACH;FMTTYPE=image/jpeg:https://parkjames.com/wp-content/uploads/2025/02/CarlosViolin-2-e1739259329184.jpg
END:VEVENT
BEGIN:VEVENT
DTSTART;TZID=UTC:20250617T180000
DTEND;TZID=UTC:20250617T203000
DTSTAMP:20260421T023612
CREATED:20250210T170633Z
LAST-MODIFIED:20250605T083102Z
UID:3063-1750183200-1750192200@parkjames.com
SUMMARY:Live Music with Carlos Reyes
DESCRIPTION:World-renowned harpist and violinist\, Carlos Reyes\, is performing during dinner Tuesday evenings on the courtyard at Oak + Violet! This Grammy Award-winning artist has played around the globe with legendary performers like Willie Nelson\, Steve Miller\, MC Hammer and the Doobie Brothers. \nCarlos has been wowing audiences since his first public appearance at the age of 5! Originally from Paraguay\, Carlos moved with his family to the Bay Area as a young child and debuted with the Oakland Symphony Orchestra when he was only 14 years old. \nDon’t miss the opportunity to see Carlos perform at such an intimate venue\, and prepare to be blown away by his sheer genius!
URL:https://parkjames.com/event-calendar/live-music-with-carlos-reyes/
CATEGORIES:Live Music
ATTACH;FMTTYPE=image/jpeg:https://parkjames.com/wp-content/uploads/2025/02/CarlosViolin-2-e1739259329184.jpg
END:VEVENT
BEGIN:VEVENT
DTSTART;TZID=UTC:20250614T180000
DTEND;TZID=UTC:20250614T200000
DTSTAMP:20260421T023612
CREATED:20250211T073754Z
LAST-MODIFIED:20250605T163522Z
UID:3071-1749924000-1749931200@parkjames.com
SUMMARY:Live Music with Carlos Reyes
DESCRIPTION:World-renowned harpist and violinist\, Carlos Reyes\, is performing during dinner Tuesday evenings on the courtyard at Oak + Violet! This Grammy Award-winning artist has played around the globe with legendary performers like Willie Nelson\, Steve Miller\, MC Hammer and the Doobie Brothers. \nCarlos has been wowing audiences since his first public appearance at the age of 5! Originally from Paraguay\, Carlos moved with his family to the Bay Area as a young child and debuted with the Oakland Symphony Orchestra when he was only 14 years old. \nDon’t miss the opportunity to see Carlos perform at such an intimate venue\, and prepare to be blown away by his sheer genius!
URL:https://parkjames.com/event-calendar/live-music-with-carlos-reyes-2/
CATEGORIES:Live Music
ATTACH;FMTTYPE=image/jpeg:https://parkjames.com/wp-content/uploads/2025/02/CarlosViolin-2-e1739259329184.jpg
END:VEVENT
BEGIN:VEVENT
DTSTART;TZID=UTC:20250613T180000
DTEND;TZID=UTC:20250613T203000
DTSTAMP:20260421T023612
CREATED:20250211T115419Z
LAST-MODIFIED:20250605T163551Z
UID:3079-1749837600-1749846600@parkjames.com
SUMMARY:Live Music Fridays with Nate Pruitt and Rick Vandivier
DESCRIPTION:Vocalist Nate Pruitt and guitarist Rick Vandivier magically combine southern soul and classic jazz styles with grooves and blues – performing their originals and favorites from Jimmie Davis and Nat King Cole to Al Green and Marvin Gaye. Their treatments are so unique that you feel you are hearing even classic songs for the first time. While they impress hard-core jazz lovers\, they also tap into the souls of anyone who loves the great vibes and surprises that come with every session. \nReservations are recommended.
URL:https://parkjames.com/event-calendar/live-music-fridays-with-nate-pruitt-and-rick-vandivier-4/
CATEGORIES:Live Music
ATTACH;FMTTYPE=image/jpeg:https://parkjames.com/wp-content/uploads/2025/01/IMG_Rick.sun_.Nate_-e1739259124854.jpg
END:VEVENT
BEGIN:VEVENT
DTSTART;TZID=UTC:20250611T180000
DTEND;TZID=UTC:20250611T203000
DTSTAMP:20260421T023612
CREATED:20250211T115542Z
LAST-MODIFIED:20250605T081635Z
UID:3080-1749664800-1749673800@parkjames.com
SUMMARY:Live Music with Carlos Reyes
DESCRIPTION:World-renowned harpist and violinist\, Carlos Reyes\, is performing during dinner Tuesday evenings on the courtyard at Oak + Violet! This Grammy Award-winning artist has played around the globe with legendary performers like Willie Nelson\, Steve Miller\, MC Hammer and the Doobie Brothers. \nCarlos has been wowing audiences since his first public appearance at the age of 5! Originally from Paraguay\, Carlos moved with his family to the Bay Area as a young child and debuted with the Oakland Symphony Orchestra when he was only 14 years old. \nDon’t miss the opportunity to see Carlos perform at such an intimate venue\, and prepare to be blown away by his sheer genius!
URL:https://parkjames.com/event-calendar/live-music-with-carlos-reyes-5/
CATEGORIES:Live Music
ATTACH;FMTTYPE=image/jpeg:https://parkjames.com/wp-content/uploads/2025/02/CarlosViolin-2-e1739259329184.jpg
END:VEVENT
BEGIN:VEVENT
DTSTART;TZID=UTC:20250610T180000
DTEND;TZID=UTC:20250610T203000
DTSTAMP:20260421T023612
CREATED:20250211T115135Z
LAST-MODIFIED:20250605T081444Z
UID:3077-1749578400-1749587400@parkjames.com
SUMMARY:Live Music with Carlos Reyes
DESCRIPTION:World-renowned harpist and violinist\, Carlos Reyes\, is performing during dinner Tuesday evenings on the courtyard at Oak + Violet! This Grammy Award-winning artist has played around the globe with legendary performers like Willie Nelson\, Steve Miller\, MC Hammer and the Doobie Brothers. \nCarlos has been wowing audiences since his first public appearance at the age of 5! Originally from Paraguay\, Carlos moved with his family to the Bay Area as a young child and debuted with the Oakland Symphony Orchestra when he was only 14 years old. \nDon’t miss the opportunity to see Carlos perform at such an intimate venue\, and prepare to be blown away by his sheer genius!
URL:https://parkjames.com/event-calendar/live-music-with-carlos-reyes-4/
CATEGORIES:Live Music
ATTACH;FMTTYPE=image/jpeg:https://parkjames.com/wp-content/uploads/2025/02/CarlosViolin-2-e1739259329184.jpg
END:VEVENT
BEGIN:VEVENT
DTSTART;TZID=UTC:20250607T180000
DTEND;TZID=UTC:20250607T203000
DTSTAMP:20260421T023612
CREATED:20250211T074455Z
LAST-MODIFIED:20250605T081130Z
UID:3074-1749319200-1749328200@parkjames.com
SUMMARY:Live Music with Carlos Reyes
DESCRIPTION:World-renowned harpist and violinist\, Carlos Reyes\, is performing during dinner Tuesday evenings on the courtyard at Oak + Violet! This Grammy Award-winning artist has played around the globe with legendary performers like Willie Nelson\, Steve Miller\, MC Hammer and the Doobie Brothers. \nCarlos has been wowing audiences since his first public appearance at the age of 5! Originally from Paraguay\, Carlos moved with his family to the Bay Area as a young child and debuted with the Oakland Symphony Orchestra when he was only 14 years old. \nDon’t miss the opportunity to see Carlos perform at such an intimate venue\, and prepare to be blown away by his sheer genius!
URL:https://parkjames.com/event-calendar/live-music-with-carlos-reyes-3/
CATEGORIES:Live Music
ATTACH;FMTTYPE=image/jpeg:https://parkjames.com/wp-content/uploads/2025/02/CarlosViolin-2-e1739259329184.jpg
END:VEVENT
BEGIN:VEVENT
DTSTART;TZID=UTC:20250606T180000
DTEND;TZID=UTC:20250606T203000
DTSTAMP:20260421T023612
CREATED:20250211T120311Z
LAST-MODIFIED:20250605T080836Z
UID:3082-1749232800-1749241800@parkjames.com
SUMMARY:Live Music Fridays with Nate Pruitt and Rick Vandivier
DESCRIPTION:Vocalist Nate Pruitt and guitarist Rick Vandivier magically combine southern soul and classic jazz styles with grooves and blues – performing their originals and favorites from Jimmie Davis and Nat King Cole to Al Green and Marvin Gaye. Their treatments are so unique that you feel you are hearing even classic songs for the first time. While they impress hard-core jazz lovers\, they also tap into the souls of anyone who loves the great vibes and surprises that come with every session. \nReservations are recommended.
URL:https://parkjames.com/event-calendar/live-music-fridays-with-nate-pruitt-and-rick-vandivier-5/
CATEGORIES:Live Music
ATTACH;FMTTYPE=image/jpeg:https://parkjames.com/wp-content/uploads/2025/01/IMG_Rick.sun_.Nate_-e1739259124854.jpg
END:VEVENT
BEGIN:VEVENT
DTSTART;TZID=UTC:20250502T180000
DTEND;TZID=UTC:20250502T200000
DTSTAMP:20260421T023612
CREATED:20250211T120054Z
LAST-MODIFIED:20250430T173001Z
UID:3081-1746208800-1746216000@parkjames.com
SUMMARY:Live Music with Rolando Morales
DESCRIPTION:Rolando Morales brings his passionate flavors of Latin/Spanish and flamenco infused music\, from Boleros to Bossa Novas\, Sambas to Classical\, and a mix of pop-infused songs with a subtle spice.
URL:https://parkjames.com/event-calendar/live-music-with-rolando-morales-3/
CATEGORIES:Live Music
END:VEVENT
BEGIN:VEVENT
DTSTART;TZID=UTC:20250305T180000
DTEND;TZID=UTC:20250305T200000
DTSTAMP:20260421T023612
CREATED:20250211T115256Z
LAST-MODIFIED:20250211T115725Z
UID:3078-1741197600-1741204800@parkjames.com
SUMMARY:Live Music with Ken Cooper
DESCRIPTION:Ken Cooper has been a steady fixture in the Bay area as a soloist\, bringing his sounds of vintage rock and pop with a gentle voice and guitar.
URL:https://parkjames.com/event-calendar/live-music-with-ken-cooper-2/
CATEGORIES:Live Music
END:VEVENT
BEGIN:VEVENT
DTSTART;TZID=UTC:20250226T180000
DTEND;TZID=UTC:20250226T200000
DTSTAMP:20260421T023612
CREATED:20250211T074656Z
LAST-MODIFIED:20250211T074656Z
UID:3075-1740592800-1740600000@parkjames.com
SUMMARY:Live Music with Rolando Morales
DESCRIPTION:Rolando Morales brings his passionate flavors of Latin/Spanish and flamenco infused music\, from Boleros to Bossa Novas\, Sambas to Classical\, and a mix of pop-infused songs with a subtle spice.
URL:https://parkjames.com/event-calendar/live-music-with-rolando-morales-2/
END:VEVENT
BEGIN:VEVENT
DTSTART;TZID=UTC:20250219T180000
DTEND;TZID=UTC:20250219T200000
DTSTAMP:20260421T023612
CREATED:20250211T073927Z
LAST-MODIFIED:20250211T073927Z
UID:3072-1739988000-1739995200@parkjames.com
SUMMARY:Live Music with Ken Cooper
DESCRIPTION:Ken Cooper has been a steady fixture in the Bay area as a soloist\, bringing his sounds of vintage rock and pop with a gentle voice and guitar.
URL:https://parkjames.com/event-calendar/live-music-with-ken-cooper/
CATEGORIES:Live Music
END:VEVENT
BEGIN:VEVENT
DTSTART;TZID=UTC:20250214T180000
DTEND;TZID=UTC:20250214T203000
DTSTAMP:20260421T023612
CREATED:20250124T154628Z
LAST-MODIFIED:20250211T073211Z
UID:3032-1739556000-1739565000@parkjames.com
SUMMARY:Live Music Fridays with Nate Pruitt and Rick Vandivier
DESCRIPTION:Vocalist Nate Pruitt and guitarist Rick Vandivier magically combine southern soul and classic jazz styles with grooves and blues – performing their originals and favorites from Jimmie Davis and Nat King Cole to Al Green and Marvin Gaye. Their treatments are so unique that you feel you are hearing even classic songs for the first time. While they impress hard-core jazz lovers\, they also tap into the souls of anyone who loves the great vibes and surprises that come with every session. \nReservations are recommended.
URL:https://parkjames.com/event-calendar/live-music-fridays-with-nate-pruitt-and-rick-vandivier/
CATEGORIES:Live Music
ATTACH;FMTTYPE=image/jpeg:https://parkjames.com/wp-content/uploads/2025/01/IMG_Rick.sun_.Nate_-e1739259124854.jpg
END:VEVENT
BEGIN:VEVENT
DTSTART;TZID=UTC:20250212T180000
DTEND;TZID=UTC:20250212T200000
DTSTAMP:20260421T023612
CREATED:20250211T072848Z
LAST-MODIFIED:20250211T072915Z
UID:3068-1739383200-1739390400@parkjames.com
SUMMARY:Live Music with Rolando Morales
DESCRIPTION:Rolando Morales brings his passionate flavors of Latin/Spanish and flamenco infused music\, from Boleros to Bossa Novas\, Sambas to Classical\, and a mix of pop-infused songs with a subtle spice.
URL:https://parkjames.com/event-calendar/live-music-with-rolando-morales/
END:VEVENT
END:VCALENDAR