BEGIN:VCALENDAR
VERSION:2.0
PRODID:-//Park James - ECPv6.15.18//NONSGML v1.0//EN
CALSCALE:GREGORIAN
METHOD:PUBLISH
X-ORIGINAL-URL:https://parkjames.com
X-WR-CALDESC:Events for Park James
REFRESH-INTERVAL;VALUE=DURATION:PT1H
X-Robots-Tag:noindex
X-PUBLISHED-TTL:PT1H
BEGIN:VTIMEZONE
TZID:UTC
BEGIN:STANDARD
TZOFFSETFROM:+0000
TZOFFSETTO:+0000
TZNAME:UTC
DTSTART:20250101T000000
END:STANDARD
END:VTIMEZONE
BEGIN:VEVENT
DTSTART;TZID=UTC:20260204T170000
DTEND;TZID=UTC:20260204T200000
DTSTAMP:20260419T204848
CREATED:20260123T064132Z
LAST-MODIFIED:20260123T064132Z
UID:3793-1770224400-1770235200@parkjames.com
SUMMARY:CZ 15:The Long Game Ft. Phil Hellmuth
DESCRIPTION:Join us for an evening with a legend \nWe’re hosting Phil Hellmuth on February 4th for a deep dive into the mindset behind 30 years of poker dominance. It’s going to be an incredible night of stories\, strategy\, and elite discipline. \nWe’d love to see you there! \nView Details
URL:https://parkjames.com/event-calendar/cz-15the-long-game-ft-phil-hellmuth/
ATTACH;FMTTYPE=image/avif:https://parkjames.com/wp-content/uploads/2026/01/991dd2d8-ea25-4643-bf34-ed7d3a54d9a4.avif
END:VEVENT
BEGIN:VEVENT
DTSTART;TZID=UTC:20260204T180000
DTEND;TZID=UTC:20260204T203000
DTSTAMP:20260419T204848
CREATED:20260107T161541Z
LAST-MODIFIED:20260107T161541Z
UID:3596-1770228000-1770237000@parkjames.com
SUMMARY:Live Performance with Carlos Reyes
DESCRIPTION:World-renowned harpist and violinist\, Carlos Reyes\, performs during dinner each Tuesday on the courtyard at Oak + Violet! This Grammy Award-winning artist has played around the globe with legendary performers like Willie Nelson\, Steve Miller\, MC Hammer\, and the Doobie Brothers. Carlos has been wowing audiences since his first public appearance at the age of 5! Originally from Paraguay\, Carlos moved with his family to the Bay Area as a young child and debuted with the Oakland Symphony Orchestra when he was only 14 years old. Don’t miss this special opportunity to see Carlos perform at such an intimate venue\, and prepare to be blown away by his sheer genius!
URL:https://parkjames.com/event-calendar/live-performance-with-carlos-reyes-13/
CATEGORIES:Live Music
ATTACH;FMTTYPE=image/jpeg:https://parkjames.com/wp-content/uploads/2025/02/CarlosViolin-2-e1739259329184.jpg
END:VEVENT
END:VCALENDAR