BEGIN:VCALENDAR
VERSION:2.0
PRODID:-//Park James - ECPv6.15.18//NONSGML v1.0//EN
CALSCALE:GREGORIAN
METHOD:PUBLISH
X-ORIGINAL-URL:https://parkjames.com
X-WR-CALDESC:Events for Park James
REFRESH-INTERVAL;VALUE=DURATION:PT1H
X-Robots-Tag:noindex
X-PUBLISHED-TTL:PT1H
BEGIN:VTIMEZONE
TZID:UTC
BEGIN:STANDARD
TZOFFSETFROM:+0000
TZOFFSETTO:+0000
TZNAME:UTC
DTSTART:20250101T000000
END:STANDARD
END:VTIMEZONE
BEGIN:VEVENT
DTSTART;TZID=UTC:20260130T180000
DTEND;TZID=UTC:20260130T203000
DTSTAMP:20260419T232400
CREATED:20260107T160248Z
LAST-MODIFIED:20260107T160248Z
UID:3584-1769796000-1769805000@parkjames.com
SUMMARY:Live Performance with Carlos Reyes
DESCRIPTION:World-renowned harpist and violinist\, Carlos Reyes\, performs during dinner each Tuesday on the courtyard at Oak + Violet! This Grammy Award-winning artist has played around the globe with legendary performers like Willie Nelson\, Steve Miller\, MC Hammer\, and the Doobie Brothers. Carlos has been wowing audiences since his first public appearance at the age of 5! Originally from Paraguay\, Carlos moved with his family to the Bay Area as a young child and debuted with the Oakland Symphony Orchestra when he was only 14 years old. Don’t miss this special opportunity to see Carlos perform at such an intimate venue\, and prepare to be blown away by his sheer genius!
URL:https://parkjames.com/event-calendar/live-performance-with-carlos-reyes-11/
ATTACH;FMTTYPE=image/jpeg:https://parkjames.com/wp-content/uploads/2025/02/CarlosViolin-2-e1739259329184.jpg
END:VEVENT
BEGIN:VEVENT
DTSTART;TZID=UTC:20260130T180000
DTEND;TZID=UTC:20260130T203000
DTSTAMP:20260419T232400
CREATED:20260107T160958Z
LAST-MODIFIED:20260107T160958Z
UID:3590-1769796000-1769805000@parkjames.com
SUMMARY:Join Rick & Nate for a Night of Curated Music at a Refined Atmosphere
DESCRIPTION:Rick & Nate are a dynamic music duo known for delivering polished\, engaging performances that blend timeless classics with contemporary favorites. With a sound rooted in acoustic-driven arrangements\, rich harmonies\, and effortless musicianship\, they create an inviting atmosphere that complements upscale dining\, social gatherings\, and community events.
URL:https://parkjames.com/event-calendar/join-rick-nate-for-a-night-of-curated-music-at-a-refined-atmosphere-4/
CATEGORIES:Live Music
ATTACH;FMTTYPE=image/jpeg:https://parkjames.com/wp-content/uploads/2025/01/IMG_Rick.sun_.Nate_-e1739259124854.jpg
END:VEVENT
BEGIN:VEVENT
DTSTART;TZID=UTC:20260130T200000
DTEND;TZID=UTC:20260130T230000
DTSTAMP:20260419T232400
CREATED:20251120T155730Z
LAST-MODIFIED:20251120T155731Z
UID:3529-1769803200-1769814000@parkjames.com
SUMMARY:Live from the Guild Theatre!
DESCRIPTION:Gary Clark Jr. \nGENRE: Guitarist\, Singer/Songwriter \nCLICK HERE for Gary Clark Jr.’s Spotify. \nCLICK HERE for Gary Clark Jr.’s Apple Music. \nCLICK HERE for Gary Clark Jr.’s Youtube. \nCLICK HERE for Gary Clark Jr.’s Website. \nClark achieved global impact following his first Grammy Award® in 2014\, winning Best Traditional R&B Performance for the track “Please Come Home” from his Warner Records debut album Blak And Blu\, and seemingly never left the road. 2015’s The Story Of Sonny Boy Slim wrought hard-won international acclaim as a critical force to be reckoned with. Throughout 2019\, Clark ascended to greater heights with the release of This Land – his third full-length studio album which bowed at #6 on the Billboard 200 chart\, marking his third consecutive Top 10 debut. The album and single of the same name attracted acclaim from the likes of The New York Times\, The Washington Post\, The Los Angeles Times\, Rolling Stone\, Pitchfork and more. He has performed on Saturday Night Live\, The Late Show with Stephen Colbert\, The Ellen DeGeneres Show\, The Tonight Show Starring Jimmy Fallon\, The Late Late Show with James Corden\, Jimmy Kimmel Live!\, Good Morning America\, CBS News Sunday\, CBS This Morning\, The Today Show\, Late Night with Seth Meyers\, The Daily Show with Trevor Noah\, The Howard Stern Show\, WTF with Marc Maron\, and more. Clark’s domestic tours became instant sell-outs and his international profile found him topping bills at legendary festivals around the world and venues including the Hollywood Bowl\, along with multiple appearances in stadiums supporting and sharing the stage with The Rolling Stones. Most recently\, Clark won three more Grammy Awards\, including Best Rock Performance and Best Rock Song for “This Land\,” and Best Contemporary Blues Album for This Land. Clark also performed his award-winning single “This Land” backed by The Roots at the 2020 Grammy Award ceremony and released their version of the track. Countless collaborations have been recorded with Stevie Wonder\, Andra Day\, John Legend\, Alicia Keys\, Foo Fighters\, Nas\, Sheryl Crow\, Brandi Carlile\, Eric Clapton\, Gustavo Santaolalla\, Booker T. Jones\, and many more. To date\, Clark has been nominated for six Grammy Awards and won four. Clark has unveiled his fourth and most compelling body of work to date\, titled JPEG RAW\, released in March 2024 via Warner Records.
URL:https://parkjames.com/event-calendar/live-from-the-guild-theatre-29/
ATTACH;FMTTYPE=image/webp:https://parkjames.com/wp-content/uploads/2025/11/691c982c30dd4adc107bfd03_caa1bf15-5c26-419b-9e2f-5bb438fd52f7.webp
END:VEVENT
END:VCALENDAR