BEGIN:VCALENDAR
VERSION:2.0
PRODID:-//Park James - ECPv6.15.18//NONSGML v1.0//EN
CALSCALE:GREGORIAN
METHOD:PUBLISH
X-ORIGINAL-URL:https://parkjames.com
X-WR-CALDESC:Events for Park James
REFRESH-INTERVAL;VALUE=DURATION:PT1H
X-Robots-Tag:noindex
X-PUBLISHED-TTL:PT1H
BEGIN:VTIMEZONE
TZID:UTC
BEGIN:STANDARD
TZOFFSETFROM:+0000
TZOFFSETTO:+0000
TZNAME:UTC
DTSTART:20250101T000000
END:STANDARD
END:VTIMEZONE
BEGIN:VEVENT
DTSTART;TZID=UTC:20260124T190000
DTEND;TZID=UTC:20260124T220000
DTSTAMP:20260420T055358
CREATED:20251120T155051Z
LAST-MODIFIED:20251120T155051Z
UID:3523-1769281200-1769292000@parkjames.com
SUMMARY:Live from the Guild Theatre!
DESCRIPTION:Careless Whisper \nGENRE: Pop\, Tribute \nCLICK HERE for Careless Whisper’s Youtube. \nCLICK HERE for Careless Whisper Website. \nIf you like big hair\, ’80s fashions\, authentic costumes\, and the best ’80s rock and pop music\, you’re going to love Careless Whisper. \nPerforming a never-ending stream of everyone’s favorite hits\, Careless Whisper is an all around theatrical show! Their setlist includes all the greatest ’80s rock anthems and dance hits keeping the dance floor packed all night long. \nTheir strength is in diversity; the band appeals to a broad range of audiences. Careless Whisper is happy to customize their show for a special event. Weddings and corporate events are their specialty. \nTraveling nationwide for nightclubs\, theaters\, corporate events\, weddings\, social events\, fundraisers\, and festivals\, Careless Whisper carries their party band energy all over the US. No matter where or when you need them\, they are ready to party and aim to please!
URL:https://parkjames.com/event-calendar/live-from-the-guild-theatre-26/
ATTACH;FMTTYPE=image/webp:https://parkjames.com/wp-content/uploads/2025/11/68cda85c11492308775fc817_6c599e6e-6e1b-4976-9d7a-1b83dadff642.webp
END:VEVENT
END:VCALENDAR