BEGIN:VCALENDAR
VERSION:2.0
PRODID:-//Park James - ECPv6.15.18//NONSGML v1.0//EN
CALSCALE:GREGORIAN
METHOD:PUBLISH
X-WR-CALNAME:Park James
X-ORIGINAL-URL:https://parkjames.com
X-WR-CALDESC:Events for Park James
REFRESH-INTERVAL;VALUE=DURATION:PT1H
X-Robots-Tag:noindex
X-PUBLISHED-TTL:PT1H
BEGIN:VTIMEZONE
TZID:UTC
BEGIN:STANDARD
TZOFFSETFROM:+0000
TZOFFSETTO:+0000
TZNAME:UTC
DTSTART:20250101T000000
END:STANDARD
END:VTIMEZONE
BEGIN:VEVENT
DTSTART;TZID=UTC:20260117T200000
DTEND;TZID=UTC:20260117T230000
DTSTAMP:20260419T231603
CREATED:20251120T154536Z
LAST-MODIFIED:20251120T154537Z
UID:3519-1768680000-1768690800@parkjames.com
SUMMARY:Live from the Guild Theatre!
DESCRIPTION:Muse Theory \nGENRE: Muse Tribute Band \nCLICK HERE for Muse Theory’s Facebook. \nMuse Theory brings the epic sound and futuristic energy of Muse to the stage with precision and passion. From the anthemic power of Uprising and Hysteria to the raw intensity of Stockholm Syndrome and Plug In Baby\, every performance is a full-throttle journey through Muse’s greatest hits. \nWith soaring vocals\, crushing riffs\, cinematic synths\, and the kind of stadium-ready energy that has made Muse one of the world’s most electrifying live bands\, Muse Theory delivers an unforgettable experience for die-hard fans and newcomers alike. \nWhether you’ve seen Muse live or have always wanted to\, this is the next best thing: a night of massive sound\, unforgettable songs\, and pure rock spectacle. \nOpener: Appetite for Illusions \nGENRE: Guns N’ Roses Tribute Band \nPure rock power\, past and future\, collide. \nThe night kicks off with the gritty\, timeless fire of Guns N’ Roses\, setting the stage for the electrifying futurism of Muse Theory\, the definitive Muse tribute. Expect thunderous Drop-D riffs\, haunting ballads\, and stadium-shaking anthems as we channel the intensity\, precision\, and showmanship of one of the greatest live bands of our time. If you’re ready for a night of adrenaline-fueled rock and unforgettable moments\, this is it.
URL:https://parkjames.com/event-calendar/live-from-the-guild-theatre-24/
ATTACH;FMTTYPE=image/webp:https://parkjames.com/wp-content/uploads/2025/11/68ee9dc9e236eb97d724ed39_24524796-90c6-4e52-88e9-4bf97719797d.webp
END:VEVENT
END:VCALENDAR