BEGIN:VCALENDAR
VERSION:2.0
PRODID:-//Park James - ECPv6.15.18//NONSGML v1.0//EN
CALSCALE:GREGORIAN
METHOD:PUBLISH
X-WR-CALNAME:Park James
X-ORIGINAL-URL:https://parkjames.com
X-WR-CALDESC:Events for Park James
REFRESH-INTERVAL;VALUE=DURATION:PT1H
X-Robots-Tag:noindex
X-PUBLISHED-TTL:PT1H
BEGIN:VTIMEZONE
TZID:UTC
BEGIN:STANDARD
TZOFFSETFROM:+0000
TZOFFSETTO:+0000
TZNAME:UTC
DTSTART:20240101T000000
END:STANDARD
END:VTIMEZONE
BEGIN:VEVENT
DTSTART;TZID=UTC:20251231T093000
DTEND;TZID=UTC:20260101T003000
DTSTAMP:20260420T060307
CREATED:20251119T173926Z
LAST-MODIFIED:20251119T173926Z
UID:3509-1767173400-1767227400@parkjames.com
SUMMARY:Live from the Guild Theatre!
DESCRIPTION:New Year’s Eve with Molly Tuttle \nGENRE: Bluegrass\, Singer/Songwriter \nCLICK HERE for Molly Tuttle’s Spotify. \nCLICK HERE for Molly Tuttle’s Apple Music. \nCLICK HERE for Molly Tuttle’s Youtube. \nCLICK HERE for Molly Tuttle’s Website. \nOn the heels of two Grammy-winning albums with her band Golden Highway and a Best New Artist nomination\, Molly Tuttle returns with her most dazzling solo album yet: So Long Little Miss Sunshine. Produced by Jay Joyce\, the LP finds Molly going to a whole new place\, blending pop\, country\, rock\, and flat-picking\, plus one murder ballad and a surprising cover of Icona Pop and Charli XCX’s “I Love It.” Molly’s stunning guitar work is more up-front on this album than ever before. \nTuttle spent five years quietly building the album while touring extensively and releasing music. “I’ve been wanting to make this record for such a long time\,” she says. “Part of me was scared to do such a big departure… It’s like\, ‘You know what? I’m just not going to care what people think. I’m going to do what I want.’” \nKnown for pushing bluegrass boundaries\, Tuttle leans fully into reinvention here. “I like to be a bit of a chameleon with my music\,” she says. “Keep people guessing and keep it full of surprises.” \nTuttle also conceived the album artwork\, which features multiple Mollys\, each wearing a different wig except for one with nothing on her head at all. (“I probably own as many wigs as I own guitars\,” she says.) Bald since age three due to alopecia areata\, Tuttle is a spokesperson for the National Alopecia Areata Foundation. \nWith So Long Little Miss Sunshine\, Tuttle fully steps into her voice—fearless\, unfiltered\, and entirely her own.
URL:https://parkjames.com/event-calendar/live-from-the-guild-theatre-19/
ATTACH;FMTTYPE=image/webp:https://parkjames.com/wp-content/uploads/2025/11/691773cd8f8bca6688e149ff_fafd8255-645e-4f26-9863-f8b0b5091e1f.webp
END:VEVENT
BEGIN:VEVENT
DTSTART;TZID=UTC:20251231T180000
DTEND;TZID=UTC:20251231T203000
DTSTAMP:20260420T060307
CREATED:20250606T050349Z
LAST-MODIFIED:20250606T050349Z
UID:3410-1767204000-1767213000@parkjames.com
SUMMARY:Live Music with Carlos Reyes
DESCRIPTION:World-renowned harpist and violinist\, Carlos Reyes\, is performing during dinner Tuesday evenings on the courtyard at Oak + Violet! This Grammy Award-winning artist has played around the globe with legendary performers like Willie Nelson\, Steve Miller\, MC Hammer and the Doobie Brothers. \nCarlos has been wowing audiences since his first public appearance at the age of 5! Originally from Paraguay\, Carlos moved with his family to the Bay Area as a young child and debuted with the Oakland Symphony Orchestra when he was only 14 years old. \nDon’t miss the opportunity to see Carlos perform at such an intimate venue\, and prepare to be blown away by his sheer genius!
URL:https://parkjames.com/event-calendar/live-music-with-carlos-reyes-89/
CATEGORIES:Live Music
ATTACH;FMTTYPE=image/jpeg:https://parkjames.com/wp-content/uploads/2025/02/CarlosViolin-2-e1739259329184.jpg
END:VEVENT
END:VCALENDAR