BEGIN:VCALENDAR
VERSION:2.0
PRODID:-//Park James - ECPv6.15.18//NONSGML v1.0//EN
CALSCALE:GREGORIAN
METHOD:PUBLISH
X-ORIGINAL-URL:https://parkjames.com
X-WR-CALDESC:Events for Park James
REFRESH-INTERVAL;VALUE=DURATION:PT1H
X-Robots-Tag:noindex
X-PUBLISHED-TTL:PT1H
BEGIN:VTIMEZONE
TZID:UTC
BEGIN:STANDARD
TZOFFSETFROM:+0000
TZOFFSETTO:+0000
TZNAME:UTC
DTSTART:20240101T000000
END:STANDARD
END:VTIMEZONE
BEGIN:VEVENT
DTSTART;TZID=UTC:20251221T190000
DTEND;TZID=UTC:20251221T220000
DTSTAMP:20260422T005803
CREATED:20251119T173502Z
LAST-MODIFIED:20251119T173502Z
UID:3505-1766343600-1766354400@parkjames.com
SUMMARY:Live from the Guild Theatre!
DESCRIPTION:Terrapin All-Stars perform The Closing of Winterland\, 12/31/78 \nGENRE: Jam\, Rock \nCLICK HERE for The Terrapin Family Band’s Spotify \nCLICK HERE for The Terrapin Family Band’s Apple Music \nThe Terrapin All-Stars take the Guild stage to recreate one of the Grateful Dead’s most legendary concerts: The Closing of Winterland\, 12/31/78. This special lineup features: Grahame Lesh (on bass)\, Stu Allen\, Scott Guberman\, Sunshine (Garcia) Becker\, Sean Nelson\, and Alex Koford – plus more to be announced soon. Don’t miss this powerhouse ensemble honoring a historic night of music! \nAbout ‘The Closing of Winterland’: \nOn December 31\, 1978\, the Grateful Dead said goodbye to San Francisco’s Winterland Ballroom with one of the most legendary concerts in their storied history. The marathon performance stretched past midnight into the early hours of New Year’s Day\, a joyful farewell to a beloved venue that had hosted countless nights of music and community. \nTo celebrate the final night of Terrapin Winterfest\, the Terrapin All-Stars will bring this iconic night back to life in full\, channeling the energy\, spirit\, and sense of occasion that made the original Closing of Winterland such a cornerstone of Deadhead lore. Join us as we honor the music and magic of that unforgettable evening\, right here at the Guild Theatre.
URL:https://parkjames.com/event-calendar/live-from-the-guild-theatre-17/
ATTACH;FMTTYPE=image/webp:https://parkjames.com/wp-content/uploads/2025/11/68c9b3ff732436a22bdaa3ce_322062b4-6f50-485d-a8a0-02bbdc1388c1-p-1080.webp
END:VEVENT
END:VCALENDAR