BEGIN:VCALENDAR
VERSION:2.0
PRODID:-//Park James - ECPv6.15.18//NONSGML v1.0//EN
CALSCALE:GREGORIAN
METHOD:PUBLISH
X-ORIGINAL-URL:https://parkjames.com
X-WR-CALDESC:Events for Park James
REFRESH-INTERVAL;VALUE=DURATION:PT1H
X-Robots-Tag:noindex
X-PUBLISHED-TTL:PT1H
BEGIN:VTIMEZONE
TZID:UTC
BEGIN:STANDARD
TZOFFSETFROM:+0000
TZOFFSETTO:+0000
TZNAME:UTC
DTSTART:20240101T000000
END:STANDARD
END:VTIMEZONE
BEGIN:VEVENT
DTSTART;TZID=UTC:20251219T180000
DTEND;TZID=UTC:20251219T203000
DTSTAMP:20260420T015546
CREATED:20250606T043318Z
LAST-MODIFIED:20250606T043318Z
UID:3382-1766167200-1766176200@parkjames.com
SUMMARY:Live Music Fridays with Nate Pruitt and Rick Vandivier
DESCRIPTION:Vocalist Nate Pruitt and guitarist Rick Vandivier magically combine southern soul and classic jazz styles with grooves and blues – performing their originals and favorites from Jimmie Davis and Nat King Cole to Al Green and Marvin Gaye. Their treatments are so unique that you feel you are hearing even classic songs for the first time. While they impress hard-core jazz lovers\, they also tap into the souls of anyone who loves the great vibes and surprises that come with every session. \nReservations are recommended.
URL:https://parkjames.com/event-calendar/live-music-fridays-with-nate-pruitt-and-rick-vandivier-30/
CATEGORIES:Live Music
ATTACH;FMTTYPE=image/jpeg:https://parkjames.com/wp-content/uploads/2025/01/IMG_Rick.sun_.Nate_-e1739259124854.jpg
END:VEVENT
BEGIN:VEVENT
DTSTART;TZID=UTC:20251219T200000
DTEND;TZID=UTC:20251219T230000
DTSTAMP:20260420T015546
CREATED:20251119T172849Z
LAST-MODIFIED:20251119T172849Z
UID:3499-1766174400-1766185200@parkjames.com
SUMMARY:Live from the Guild Theatre!
DESCRIPTION:Super Diamond – The Neil Diamond Tribute \nGENRE: Tribute\, Rock \nCLICK HERE for Super Diamond’s Youtube. \nCLICK HERE for Super Diamond’s Website. \nSan Francisco’s Super Diamond has become one of the most popular live shows at major nightclubs\, theaters\, ballrooms and public events throughout the United States. For three decades the band has performed sell-out shows at venues such as Irving Plaza in New York\, 930 Club in Washington D.C.\, Bimbo’s in San Francisco\, and House of Blues venues in Chicago\, Los Angeles\, San Diego\, Cleveland\, Las Vegas\, New Orleans and Dallas to name a few. Super Diamond delivers a glittering\, smoke-filled show performing Neil Diamond‘s hits with a rock edge and unrestrained enthusiasm. \nPure entertainment – classic music combined with fun\, energy and passion! Neil Diamond himself has sung his songs on stage with Super Diamond at their shows. Don’t let anyone tell you Neil Diamond doesn’t “ROCK!”
URL:https://parkjames.com/event-calendar/live-from-the-guild-theatre-14/
ATTACH;FMTTYPE=image/webp:https://parkjames.com/wp-content/uploads/2025/11/68dc29a31ea187f785bd25a4_a4aa9fe2-e99c-491c-a2b9-e101300cf01a.webp
END:VEVENT
END:VCALENDAR