BEGIN:VCALENDAR
VERSION:2.0
PRODID:-//Park James - ECPv6.15.18//NONSGML v1.0//EN
CALSCALE:GREGORIAN
METHOD:PUBLISH
X-WR-CALNAME:Park James
X-ORIGINAL-URL:https://parkjames.com
X-WR-CALDESC:Events for Park James
REFRESH-INTERVAL;VALUE=DURATION:PT1H
X-Robots-Tag:noindex
X-PUBLISHED-TTL:PT1H
BEGIN:VTIMEZONE
TZID:UTC
BEGIN:STANDARD
TZOFFSETFROM:+0000
TZOFFSETTO:+0000
TZNAME:UTC
DTSTART:20240101T000000
END:STANDARD
END:VTIMEZONE
BEGIN:VEVENT
DTSTART;TZID=UTC:20251213T180000
DTEND;TZID=UTC:20251213T203000
DTSTAMP:20260420T030216
CREATED:20250606T045555Z
LAST-MODIFIED:20250606T045555Z
UID:3402-1765648800-1765657800@parkjames.com
SUMMARY:Live Music with Carlos Reyes
DESCRIPTION:World-renowned harpist and violinist\, Carlos Reyes\, is performing during dinner Tuesday evenings on the courtyard at Oak + Violet! This Grammy Award-winning artist has played around the globe with legendary performers like Willie Nelson\, Steve Miller\, MC Hammer and the Doobie Brothers. \nCarlos has been wowing audiences since his first public appearance at the age of 5! Originally from Paraguay\, Carlos moved with his family to the Bay Area as a young child and debuted with the Oakland Symphony Orchestra when he was only 14 years old. \nDon’t miss the opportunity to see Carlos perform at such an intimate venue\, and prepare to be blown away by his sheer genius!
URL:https://parkjames.com/event-calendar/live-music-with-carlos-reyes-81/
CATEGORIES:Live Music
ATTACH;FMTTYPE=image/jpeg:https://parkjames.com/wp-content/uploads/2025/02/CarlosViolin-2-e1739259329184.jpg
END:VEVENT
BEGIN:VEVENT
DTSTART;TZID=UTC:20251213T190000
DTEND;TZID=UTC:20251213T220000
DTSTAMP:20260420T030216
CREATED:20251119T172151Z
LAST-MODIFIED:20251119T172151Z
UID:3493-1765652400-1765663200@parkjames.com
SUMMARY:Live from the Guild Theatre!
DESCRIPTION:Strangelove \nGENRE: New Wave\, 80’s\, synthpop \nCLICK HERE for Strangelove’s Youtube. \nCLICK HERE for Strangelove’s Website. \nStrangelove-The DEPECHE MODE Experience:\nHailing from US/UK\, the Grammy-nominated allstars in Strangelove-The DEPECHE MODE Experience deliver a career spanning\, pitch perfect “best of” concert that transports listeners through time and touches on several key points in Depeche Mode’s 45+ year career. Songs from throughout the Depeche canon of 50+ chart-topping hits are lovingly recreated\, with the look and feel of a classic-era DM arena show. No detail of STRANGELOVE’s presentation has been overlooked; and stage set pieces and in-show costume changes reflect different eras of Depeche Mode’s story. https://www.depechetribute.com/ \n“They do it to such fine detail it’s scary” \n(Martin Gore-Depeche Mode) \nSpecial Guest: Electric Duke (tribute to David Bowie from UK)\nGrammy-nominated Electric Duke frontman Julian Shah-Tayler\, from UK\, has collaborated with several David Bowie musicians (on original albums and Bowie material) and effortlessly channels the zeitgeist of Ziggy Stardust.\nhttps://facebook.com/electricduke
URL:https://parkjames.com/event-calendar/live-from-the-guild-theatre-11/
ATTACH;FMTTYPE=image/webp:https://parkjames.com/wp-content/uploads/2025/11/68c9b3ff732436a22bdaa3b8_c5b77afb-bb55-4e54-ae65-036fd929a540.webp
END:VEVENT
END:VCALENDAR