BEGIN:VCALENDAR
VERSION:2.0
PRODID:-//Park James - ECPv6.15.18//NONSGML v1.0//EN
CALSCALE:GREGORIAN
METHOD:PUBLISH
X-WR-CALNAME:Park James
X-ORIGINAL-URL:https://parkjames.com
X-WR-CALDESC:Events for Park James
REFRESH-INTERVAL;VALUE=DURATION:PT1H
X-Robots-Tag:noindex
X-PUBLISHED-TTL:PT1H
BEGIN:VTIMEZONE
TZID:UTC
BEGIN:STANDARD
TZOFFSETFROM:+0000
TZOFFSETTO:+0000
TZNAME:UTC
DTSTART:20240101T000000
END:STANDARD
END:VTIMEZONE
BEGIN:VEVENT
DTSTART;TZID=UTC:20251121T180000
DTEND;TZID=UTC:20251121T203000
DTSTAMP:20260420T032237
CREATED:20250606T042839Z
LAST-MODIFIED:20250606T042839Z
UID:3378-1763748000-1763757000@parkjames.com
SUMMARY:Live Music Fridays with Nate Pruitt and Rick Vandivier
DESCRIPTION:Vocalist Nate Pruitt and guitarist Rick Vandivier magically combine southern soul and classic jazz styles with grooves and blues – performing their originals and favorites from Jimmie Davis and Nat King Cole to Al Green and Marvin Gaye. Their treatments are so unique that you feel you are hearing even classic songs for the first time. While they impress hard-core jazz lovers\, they also tap into the souls of anyone who loves the great vibes and surprises that come with every session. \nReservations are recommended.
URL:https://parkjames.com/event-calendar/live-music-fridays-with-nate-pruitt-and-rick-vandivier-26/
CATEGORIES:Live Music
ATTACH;FMTTYPE=image/jpeg:https://parkjames.com/wp-content/uploads/2025/01/IMG_Rick.sun_.Nate_-e1739259124854.jpg
END:VEVENT
BEGIN:VEVENT
DTSTART;TZID=UTC:20251121T190000
DTEND;TZID=UTC:20251121T220000
DTSTAMP:20260420T032237
CREATED:20251119T122629Z
LAST-MODIFIED:20251119T122629Z
UID:3474-1763751600-1763762400@parkjames.com
SUMMARY:Live from the Guild Theatre!
DESCRIPTION:Jefferson Starship 50th Anniversary Tour/ Runaway Again Tour \nGENRE: Rock\, Psychedelic Rock \nCLICK HERE for Jefferson Starship’s Spotify. \nCLICK HERE for Jefferson Starship’s Apple Music. \nCLICK HERE for Jefferson Starship’s Youtube. \nCLICK HERE for Jefferson Starship’s Website. \nJefferson Starship is one of the most successful arena rock bands of the ’70s and ’80s\, earning 3 platinum and 8 gold records\, as well as numerous Top 40 Billboard singles. As they celebrate their 50th anniversary\, the band reaches a rare milestone that only a few bands ever achieve. \nFounded by Paul Kantner in the ’70s\, Jefferson Starship was conceived as a collective of musical adventurers contributing to his epic concept albums and eventual catalog of rock classics. When the current lineup came together in 2012\, with many members having joined years earlier\, Kantner couldn’t have predicted the band would become the road-conquering force they are today. \nThe five members of Jefferson Starship often describe themselves as both a “family” and a “gang\,” and this sense of camaraderie shines through in their performances. Over the years\, they’ve played in all 50 U.S. states\, five continents\, and countless countries. A recent tour of New Zealand was noted as one of the band’s favorites\, and their live shows continue to offer a non-stop mix of rock hits. \nThe band’s current lineup includes original member David Freiberg\, drummer Donny Baldwin (who first joined in 1982)\, keyboardist Chris Smith (who joined in 1998)\, guitarist Jude Gold (who joined in 2012)\, and singer/guitarist Cathy Richardson (who joined in 2008 after Kantner saw her perform with Big Brother and the Holding Company). \nAs Jefferson Starship celebrates its 50th anniversary\, the band reflects on the legacy of Paul Kantner\, who passed away in 2016. The spirit of exploration and adventure he instilled in the band lives on in their music and performances. As Gold puts it\, “To me\, that ‘Paul Kantner thing’—getting on a rocket ship and blasting off into the unknown—is the very essence of Jefferson Starship. And that spirit is very much alive in the band today.”
URL:https://parkjames.com/event-calendar/live-from-the-guild-theatre-2/
ATTACH;FMTTYPE=image/webp:https://parkjames.com/wp-content/uploads/2025/11/686d4ed20d32efc2120f7cdf_97f5d0cc-9ade-4c39-a56b-f65eb4801bec.webp
END:VEVENT
END:VCALENDAR